BEGIN:VCALENDAR
VERSION:2.0
PRODID:-//Space Coast Mom Life - ECPv6.15.20//NONSGML v1.0//EN
CALSCALE:GREGORIAN
METHOD:PUBLISH
X-ORIGINAL-URL:https://spacecoastmomlife.com
X-WR-CALDESC:Events for Space Coast Mom Life
REFRESH-INTERVAL;VALUE=DURATION:PT1H
X-Robots-Tag:noindex
X-PUBLISHED-TTL:PT1H
BEGIN:VTIMEZONE
TZID:America/New_York
BEGIN:DAYLIGHT
TZOFFSETFROM:-0500
TZOFFSETTO:-0400
TZNAME:EDT
DTSTART:20240310T070000
END:DAYLIGHT
BEGIN:STANDARD
TZOFFSETFROM:-0400
TZOFFSETTO:-0500
TZNAME:EST
DTSTART:20241103T060000
END:STANDARD
BEGIN:DAYLIGHT
TZOFFSETFROM:-0500
TZOFFSETTO:-0400
TZNAME:EDT
DTSTART:20250309T070000
END:DAYLIGHT
BEGIN:STANDARD
TZOFFSETFROM:-0400
TZOFFSETTO:-0500
TZNAME:EST
DTSTART:20251102T060000
END:STANDARD
BEGIN:DAYLIGHT
TZOFFSETFROM:-0500
TZOFFSETTO:-0400
TZNAME:EDT
DTSTART:20260308T070000
END:DAYLIGHT
BEGIN:STANDARD
TZOFFSETFROM:-0400
TZOFFSETTO:-0500
TZNAME:EST
DTSTART:20261101T060000
END:STANDARD
END:VTIMEZONE
BEGIN:VEVENT
DTSTART;TZID=America/New_York:20250712T180000
DTEND;TZID=America/New_York:20250712T220000
DTSTAMP:20260420T075454
CREATED:20250531T142822Z
LAST-MODIFIED:20250531T143050Z
UID:3955-1752343200-1752357600@spacecoastmomlife.com
SUMMARY:3rd Annual Space Coast Mom Life Soirée
DESCRIPTION:You’re Invited to the 3rd Annual Space Coast Mom Life Soirée presented by Clevens Face & Body Specialists!\n\n The Ultimate Mom’s Night Out is back and better than ever! \n\nGather your girlfriends\, dress to impress\, and join us for an unforgettable evening designed just for moms. This cocktail-style soirée is your chance to unwind\, connect\, and enjoy a night of well-deserved fun — no kids\, no chaos\, just you.\n\nYour ticket includes access to: Music & Dancing Light Hors d’oeuvres Professional Photos Raffle Ticket Pampering Services Bloom Bar Glam Touch-Ups Henna Tattoos Tarrot Card Reading 360 Photo Booth Exclusive Shopping from Local Vendors Giveaways & More!\n\nA cash bar will be available\, and many of our fabulous vendors will be offering products and services for purchase — so come ready to sip\, shop\, and shine.\nWhether you’re looking for a girls’ night\, a little self-care\, or just a reason to dress up\, this is the event you won’t want to miss. All moms are welcome — we can’t wait to celebrate with you!
URL:https://spacecoastmomlife.com/event/3rd-annual-space-coast-mom-life-soiree/
LOCATION:Crowne Plaza Melbourne-Oceanfront\, 2605 N Hwy A1A\, Melbourne\, FL\, 32903\, United States
CATEGORIES:Annual Soirée,Moms Night Out
ATTACH;FMTTYPE=image/jpeg:https://spacecoastmomlife.com/wp-content/uploads/2025/05/Soiree-25-facebook-cover-n1.jpg
ORGANIZER;CN="Space Coast Mom Life":MAILTO:spacecoastmomlife@gmail.com
END:VEVENT
END:VCALENDAR