BEGIN:VCALENDAR
VERSION:2.0
PRODID:-//Space Coast Mom Life - ECPv6.15.20//NONSGML v1.0//EN
CALSCALE:GREGORIAN
METHOD:PUBLISH
X-WR-CALNAME:Space Coast Mom Life
X-ORIGINAL-URL:https://spacecoastmomlife.com
X-WR-CALDESC:Events for Space Coast Mom Life
REFRESH-INTERVAL;VALUE=DURATION:PT1H
X-Robots-Tag:noindex
X-PUBLISHED-TTL:PT1H
BEGIN:VTIMEZONE
TZID:America/New_York
BEGIN:DAYLIGHT
TZOFFSETFROM:-0500
TZOFFSETTO:-0400
TZNAME:EDT
DTSTART:20240310T070000
END:DAYLIGHT
BEGIN:STANDARD
TZOFFSETFROM:-0400
TZOFFSETTO:-0500
TZNAME:EST
DTSTART:20241103T060000
END:STANDARD
BEGIN:DAYLIGHT
TZOFFSETFROM:-0500
TZOFFSETTO:-0400
TZNAME:EDT
DTSTART:20250309T070000
END:DAYLIGHT
BEGIN:STANDARD
TZOFFSETFROM:-0400
TZOFFSETTO:-0500
TZNAME:EST
DTSTART:20251102T060000
END:STANDARD
BEGIN:DAYLIGHT
TZOFFSETFROM:-0500
TZOFFSETTO:-0400
TZNAME:EDT
DTSTART:20260308T070000
END:DAYLIGHT
BEGIN:STANDARD
TZOFFSETFROM:-0400
TZOFFSETTO:-0500
TZNAME:EST
DTSTART:20261101T060000
END:STANDARD
END:VTIMEZONE
BEGIN:VEVENT
DTSTART;TZID=America/New_York:20250502T170000
DTEND;TZID=America/New_York:20250502T180000
DTSTAMP:20260420T070020
CREATED:20250414T200027Z
LAST-MODIFIED:20250414T200027Z
UID:3656-1746205200-1746208800@spacecoastmomlife.com
SUMMARY:Spring Into Strength: A FREE Self-Defense Event
DESCRIPTION:Join Martial Methods for an empowering Spring Into Strength self-defense event hosted by Sensei Morgan Frechette! This special event is designed for kids ages 5-12 and will focus on age-appropriate self-defense techniques\, striking\, and mindset applications to build confidence and strength.\n\n Date: May 2\, 2023\n Time: 6:00 PM\n Location: Martial Methods\, 446 Gus Hipp Blvd\, Rockledge\n\n Cost: FREE! Donations to Nana’s House Children’s Home are welcomed.\n Extras: Snack bags & prize giveaways!\n\n Register here: https://form.jotform.com/250824017319150\n\nSensei Morgan\, a pro martial artist\, school owner\, and cast member of the upcoming film Black Creek\, will be leading this exciting event.\n\nDon’t miss this chance to empower your child with valuable self-defense skills in a fun and safe environment.
URL:https://spacecoastmomlife.com/event/spring-into-strength-a-free-self-defense-event/
LOCATION:Martial Methods\, 446 Gus Hipp Blvd.\, Rockledge\, FL\, United States
CATEGORIES:Martial Arts
ATTACH;FMTTYPE=image/jpeg:https://spacecoastmomlife.com/wp-content/uploads/2025/04/morgankylie-Morgan-Frechette-1-scaled.jpg
END:VEVENT
END:VCALENDAR